BEGIN:VCALENDAR
VERSION:2.0
PRODID:icalendar-ruby
CALSCALE:GREGORIAN
METHOD:PUBLISH
BEGIN:VEVENT
DTSTAMP:20260422T124245Z
UID:496-308483@twosaintschurch.ca
DTSTART:20260426T230000Z
DTEND:20260427T000000Z
CLASS:PUBLIC
CREATED:20260416T094336
DESCRIPTION:Touches of Sweet Harmony weaves a breath-taking hour of music a
 nd spoken word with Mary Byrne (flute)\, Wendy Stofer (piano)\, and Genevi
 eve Richards (reader). In the flowing style of a Christmastide “Lessons 
 and Carols\,” our Springtime offering celebrates the miracle of music as
  contemplated by authors of word and manifest by architects of sound.\nIn 
 November\, our parish welcomed a magnificent Baldwin grand piano to our hi
 storic sanctuary. Its resonant tone has enhanced our worship in a myriad o
 f ways. Touches of Sweet Harmony inaugurates the concert life of the Baldw
 in in our parish. All proceeds from the concert support the purchase and c
 are of our lovely new piano.\nMusic by Kristen Stoner\, Kent Kennan\, Cami
 lle Saint-Saëns\, Howard Hanson\, Johann Sebastian Bach\, Ian Clarke\, Ch
 arles Griffes\, Georges Enescu\, and John Rutter.\nTickets are $20\, avail
 able at the door\, or by e-mailing events@stlukecedarhill.ca.\nPlease join
  us!
LAST-MODIFIED:20260416T094336
LOCATION:in St. Luke's Church
SUMMARY:Touches of Sweet Harmony
URL;VALUE=URI:https://www.twosaintschurch.ca/events/touches-of-sweet-harmon
 y/2026-04-26
ATTACH;FILENAME=Mary Byrne Concert 2026 Apr-1500x784.JPG;FMTTYPE=image/jpeg
 :https://dq5pwpg1q8ru0.cloudfront.net/2026/04/15/17/26/21/a8c76e9c-e1ca-48
 d0-a38b-7c181a7d372f/Mary%20Byrne%20Concert%202026%20Apr-1500x784.JPG
END:VEVENT
END:VCALENDAR
